BEGIN:VCALENDAR
VERSION:2.0
PRODID:-//UNITED Baptist Church - ECPv6.15.20//NONSGML v1.0//EN
CALSCALE:GREGORIAN
METHOD:PUBLISH
X-ORIGINAL-URL:https://unitedbaptist.org
X-WR-CALDESC:Events for UNITED Baptist Church
REFRESH-INTERVAL;VALUE=DURATION:PT1H
X-Robots-Tag:noindex
X-PUBLISHED-TTL:PT1H
BEGIN:VTIMEZONE
TZID:America/New_York
BEGIN:DAYLIGHT
TZOFFSETFROM:-0500
TZOFFSETTO:-0400
TZNAME:EDT
DTSTART:20230312T070000
END:DAYLIGHT
BEGIN:STANDARD
TZOFFSETFROM:-0400
TZOFFSETTO:-0500
TZNAME:EST
DTSTART:20231105T060000
END:STANDARD
BEGIN:DAYLIGHT
TZOFFSETFROM:-0500
TZOFFSETTO:-0400
TZNAME:EDT
DTSTART:20240310T070000
END:DAYLIGHT
BEGIN:STANDARD
TZOFFSETFROM:-0400
TZOFFSETTO:-0500
TZNAME:EST
DTSTART:20241103T060000
END:STANDARD
BEGIN:DAYLIGHT
TZOFFSETFROM:-0500
TZOFFSETTO:-0400
TZNAME:EDT
DTSTART:20250309T070000
END:DAYLIGHT
BEGIN:STANDARD
TZOFFSETFROM:-0400
TZOFFSETTO:-0500
TZNAME:EST
DTSTART:20251102T060000
END:STANDARD
END:VTIMEZONE
BEGIN:VEVENT
DTSTART;TZID=America/New_York:20240120T100000
DTEND;TZID=America/New_York:20240120T110000
DTSTAMP:20260421T170623
CREATED:20230321T171826Z
LAST-MODIFIED:20231208T210210Z
UID:9608-1705744800-1705748400@unitedbaptist.org
SUMMARY:United Dig (Bible Study)
DESCRIPTION:
URL:https://unitedbaptist.org/event/united-dig-bible-study-58/
CATEGORIES:D.I.G.(Bible Studies)
END:VEVENT
BEGIN:VEVENT
DTSTART;TZID=America/New_York:20240120T110000
DTEND;TZID=America/New_York:20240120T120000
DTSTAMP:20260421T170623
CREATED:20230927T170308Z
LAST-MODIFIED:20231208T210210Z
UID:18418-1705748400-1705752000@unitedbaptist.org
SUMMARY:Deacons Meeting
DESCRIPTION:
URL:https://unitedbaptist.org/event/deacons-meeting/
CATEGORIES:D.I.G.(Bible Studies)
END:VEVENT
BEGIN:VEVENT
DTSTART;TZID=America/New_York:20240120T113000
DTEND;TZID=America/New_York:20240120T121500
DTSTAMP:20260421T170623
CREATED:20230322T170329Z
LAST-MODIFIED:20231208T210210Z
UID:9653-1705750200-1705752900@unitedbaptist.org
SUMMARY:Manna Ministry
DESCRIPTION:Manna ministry http://unitedbaptist.org/manna\nJoin with Google Hangouts: https://hangouts.google.com/hangouts/_/calendar/b2ZmaWNlQHVuaXRlZGJhcHRpc3Qub3Jn.73crrnlkocbalg7mv6iqc52lu3?hs=121
URL:https://unitedbaptist.org/event/manna-ministry-58/
CATEGORIES:D.I.G.(Bible Studies)
END:VEVENT
END:VCALENDAR