BEGIN:VCALENDAR
VERSION:2.0
PRODID:-//UNITED Baptist Church - ECPv6.15.20//NONSGML v1.0//EN
CALSCALE:GREGORIAN
METHOD:PUBLISH
X-ORIGINAL-URL:https://unitedbaptist.org
X-WR-CALDESC:Events for UNITED Baptist Church
REFRESH-INTERVAL;VALUE=DURATION:PT1H
X-Robots-Tag:noindex
X-PUBLISHED-TTL:PT1H
BEGIN:VTIMEZONE
TZID:America/New_York
BEGIN:DAYLIGHT
TZOFFSETFROM:-0500
TZOFFSETTO:-0400
TZNAME:EDT
DTSTART:20220313T070000
END:DAYLIGHT
BEGIN:STANDARD
TZOFFSETFROM:-0400
TZOFFSETTO:-0500
TZNAME:EST
DTSTART:20221106T060000
END:STANDARD
BEGIN:DAYLIGHT
TZOFFSETFROM:-0500
TZOFFSETTO:-0400
TZNAME:EDT
DTSTART:20230312T070000
END:DAYLIGHT
BEGIN:STANDARD
TZOFFSETFROM:-0400
TZOFFSETTO:-0500
TZNAME:EST
DTSTART:20231105T060000
END:STANDARD
BEGIN:DAYLIGHT
TZOFFSETFROM:-0500
TZOFFSETTO:-0400
TZNAME:EDT
DTSTART:20240310T070000
END:DAYLIGHT
BEGIN:STANDARD
TZOFFSETFROM:-0400
TZOFFSETTO:-0500
TZNAME:EST
DTSTART:20241103T060000
END:STANDARD
END:VTIMEZONE
BEGIN:VEVENT
DTSTART;TZID=America/New_York:20231120T080000
DTEND;TZID=America/New_York:20231124T170000
DTSTAMP:20260421T140049
CREATED:20230927T160244Z
LAST-MODIFIED:20231124T214753Z
UID:18378-1700467200-1700845200@unitedbaptist.org
SUMMARY:Church is Closed for Thanksgiving Break
DESCRIPTION:
URL:https://unitedbaptist.org/event/church-is-closed-for-thanksgiving-break/
CATEGORIES:D.I.G.(Bible Studies)
END:VEVENT
BEGIN:VEVENT
DTSTART;TZID=America/New_York:20231124T110000
DTEND;TZID=America/New_York:20231124T120000
DTSTAMP:20260421T140049
CREATED:20221129T003940Z
LAST-MODIFIED:20231018T010213Z
UID:3150-1700823600-1700827200@unitedbaptist.org
SUMMARY:Hermeneutics in the Pastoral Epistles
DESCRIPTION:
URL:https://unitedbaptist.org/event/hermeneutics-in-the-pastoral-epistles-50/
CATEGORIES:D.I.G.(Bible Studies)
END:VEVENT
BEGIN:VEVENT
DTSTART;TZID=America/New_York:20231124T110000
DTEND;TZID=America/New_York:20231124T120000
DTSTAMP:20260421T140049
CREATED:20231018T013213Z
LAST-MODIFIED:20231124T163249Z
UID:19382-1700823600-1700827200@unitedbaptist.org
SUMMARY:NO Friday DIG in Daniel
DESCRIPTION:
URL:https://unitedbaptist.org/event/friday-dig-in-daniel-6/
CATEGORIES:D.I.G.(Bible Studies)
END:VEVENT
BEGIN:VEVENT
DTSTART;TZID=America/New_York:20231124T120000
DTEND;TZID=America/New_York:20231124T130000
DTSTAMP:20260421T140049
CREATED:20221215T232818Z
LAST-MODIFIED:20221215T235848Z
UID:4488-1700827200-1700830800@unitedbaptist.org
SUMMARY:Prayer Time at Noon
DESCRIPTION:
URL:https://unitedbaptist.org/event/prayer-time-at-noon-53/
END:VEVENT
BEGIN:VEVENT
DTSTART;TZID=America/New_York:20231124T190000
DTEND;TZID=America/New_York:20231124T200000
DTSTAMP:20260421T140049
CREATED:20231031T043246Z
LAST-MODIFIED:20231125T001750Z
UID:20084-1700852400-1700856000@unitedbaptist.org
SUMMARY:NO URBAN ENCOUNTER
DESCRIPTION:
URL:https://unitedbaptist.org/event/urban-encounter-5/
CATEGORIES:D.I.G.(Bible Studies)
END:VEVENT
END:VCALENDAR