BEGIN:VCALENDAR
VERSION:2.0
PRODID:-//UNITED Baptist Church - ECPv6.15.20//NONSGML v1.0//EN
CALSCALE:GREGORIAN
METHOD:PUBLISH
X-ORIGINAL-URL:https://unitedbaptist.org
X-WR-CALDESC:Events for UNITED Baptist Church
REFRESH-INTERVAL;VALUE=DURATION:PT1H
X-Robots-Tag:noindex
X-PUBLISHED-TTL:PT1H
BEGIN:VTIMEZONE
TZID:America/New_York
BEGIN:DAYLIGHT
TZOFFSETFROM:-0500
TZOFFSETTO:-0400
TZNAME:EDT
DTSTART:20220313T070000
END:DAYLIGHT
BEGIN:STANDARD
TZOFFSETFROM:-0400
TZOFFSETTO:-0500
TZNAME:EST
DTSTART:20221106T060000
END:STANDARD
BEGIN:DAYLIGHT
TZOFFSETFROM:-0500
TZOFFSETTO:-0400
TZNAME:EDT
DTSTART:20230312T070000
END:DAYLIGHT
BEGIN:STANDARD
TZOFFSETFROM:-0400
TZOFFSETTO:-0500
TZNAME:EST
DTSTART:20231105T060000
END:STANDARD
BEGIN:DAYLIGHT
TZOFFSETFROM:-0500
TZOFFSETTO:-0400
TZNAME:EDT
DTSTART:20240310T070000
END:DAYLIGHT
BEGIN:STANDARD
TZOFFSETFROM:-0400
TZOFFSETTO:-0500
TZNAME:EST
DTSTART:20241103T060000
END:STANDARD
END:VTIMEZONE
BEGIN:VEVENT
DTSTART;TZID=America/New_York:20231120T080000
DTEND;TZID=America/New_York:20231124T170000
DTSTAMP:20260421T153516
CREATED:20230927T160244Z
LAST-MODIFIED:20231124T214753Z
UID:18378-1700467200-1700845200@unitedbaptist.org
SUMMARY:Church is Closed for Thanksgiving Break
DESCRIPTION:
URL:https://unitedbaptist.org/event/church-is-closed-for-thanksgiving-break/
CATEGORIES:D.I.G.(Bible Studies)
END:VEVENT
BEGIN:VEVENT
DTSTART;TZID=America/New_York:20231122T190000
DTEND;TZID=America/New_York:20231122T200000
DTSTAMP:20260421T153516
CREATED:20230218T025852Z
LAST-MODIFIED:20231123T003252Z
UID:8300-1700679600-1700683200@unitedbaptist.org
SUMMARY:NO UNITED LEADERSHIP MEETING
DESCRIPTION:
URL:https://unitedbaptist.org/event/united-leadership-meeting-11/
CATEGORIES:D.I.G.(Bible Studies)
END:VEVENT
END:VCALENDAR