BEGIN:VCALENDAR
VERSION:2.0
PRODID:-//UNITED Baptist Church - ECPv6.15.20//NONSGML v1.0//EN
CALSCALE:GREGORIAN
METHOD:PUBLISH
X-ORIGINAL-URL:https://unitedbaptist.org
X-WR-CALDESC:Events for UNITED Baptist Church
REFRESH-INTERVAL;VALUE=DURATION:PT1H
X-Robots-Tag:noindex
X-PUBLISHED-TTL:PT1H
BEGIN:VTIMEZONE
TZID:America/New_York
BEGIN:DAYLIGHT
TZOFFSETFROM:-0500
TZOFFSETTO:-0400
TZNAME:EDT
DTSTART:20220313T070000
END:DAYLIGHT
BEGIN:STANDARD
TZOFFSETFROM:-0400
TZOFFSETTO:-0500
TZNAME:EST
DTSTART:20221106T060000
END:STANDARD
BEGIN:DAYLIGHT
TZOFFSETFROM:-0500
TZOFFSETTO:-0400
TZNAME:EDT
DTSTART:20230312T070000
END:DAYLIGHT
BEGIN:STANDARD
TZOFFSETFROM:-0400
TZOFFSETTO:-0500
TZNAME:EST
DTSTART:20231105T060000
END:STANDARD
BEGIN:DAYLIGHT
TZOFFSETFROM:-0500
TZOFFSETTO:-0400
TZNAME:EDT
DTSTART:20240310T070000
END:DAYLIGHT
BEGIN:STANDARD
TZOFFSETFROM:-0400
TZOFFSETTO:-0500
TZNAME:EST
DTSTART:20241103T060000
END:STANDARD
END:VTIMEZONE
BEGIN:VEVENT
DTSTART;TZID=America/New_York:20231117T110000
DTEND;TZID=America/New_York:20231117T120000
DTSTAMP:20260421T135936
CREATED:20221129T003940Z
LAST-MODIFIED:20231018T010212Z
UID:3148-1700218800-1700222400@unitedbaptist.org
SUMMARY:Hermeneutics in the Pastoral Epistles
DESCRIPTION:
URL:https://unitedbaptist.org/event/hermeneutics-in-the-pastoral-epistles-49/
CATEGORIES:D.I.G.(Bible Studies)
END:VEVENT
BEGIN:VEVENT
DTSTART;TZID=America/New_York:20231117T110000
DTEND;TZID=America/New_York:20231117T120000
DTSTAMP:20260421T135936
CREATED:20231018T013212Z
LAST-MODIFIED:20231117T164801Z
UID:19381-1700218800-1700222400@unitedbaptist.org
SUMMARY:Friday DIG in Daniel at Ms. Kings house
DESCRIPTION:
URL:https://unitedbaptist.org/event/friday-dig-in-daniel-5/
CATEGORIES:D.I.G.(Bible Studies)
END:VEVENT
BEGIN:VEVENT
DTSTART;TZID=America/New_York:20231117T120000
DTEND;TZID=America/New_York:20231117T130000
DTSTAMP:20260421T135936
CREATED:20221215T232818Z
LAST-MODIFIED:20221215T235848Z
UID:4487-1700222400-1700226000@unitedbaptist.org
SUMMARY:Prayer Time at Noon
DESCRIPTION:
URL:https://unitedbaptist.org/event/prayer-time-at-noon-52/
END:VEVENT
BEGIN:VEVENT
DTSTART;TZID=America/New_York:20231117T190000
DTEND;TZID=America/New_York:20231117T213000
DTSTAMP:20260421T135936
CREATED:20230210T212827Z
LAST-MODIFIED:20231118T014746Z
UID:7929-1700247600-1700256600@unitedbaptist.org
SUMMARY:Movie: The Case for Christ
DESCRIPTION:
URL:https://unitedbaptist.org/event/movie-4/
LOCATION:United Baptist Church\, Hyattsville\, MD\, United States
CATEGORIES:D.I.G.(Bible Studies)
END:VEVENT
BEGIN:VEVENT
DTSTART;TZID=America/New_York:20231117T190000
DTEND;TZID=America/New_York:20231117T213000
DTSTAMP:20260421T135936
CREATED:20230216T172851Z
LAST-MODIFIED:20230810T150405Z
UID:8236-1700247600-1700256600@unitedbaptist.org
SUMMARY:Movie: Overcomer
DESCRIPTION:
URL:https://unitedbaptist.org/event/movie-overcomer-10/
LOCATION:United Baptist Church\, New Carrollton\, MD 20784\, USA
CATEGORIES:D.I.G.(Bible Studies)
END:VEVENT
END:VCALENDAR