BEGIN:VCALENDAR
VERSION:2.0
PRODID:-//UNITED Baptist Church - ECPv6.15.20//NONSGML v1.0//EN
CALSCALE:GREGORIAN
METHOD:PUBLISH
X-ORIGINAL-URL:https://unitedbaptist.org
X-WR-CALDESC:Events for UNITED Baptist Church
REFRESH-INTERVAL;VALUE=DURATION:PT1H
X-Robots-Tag:noindex
X-PUBLISHED-TTL:PT1H
BEGIN:VTIMEZONE
TZID:America/New_York
BEGIN:DAYLIGHT
TZOFFSETFROM:-0500
TZOFFSETTO:-0400
TZNAME:EDT
DTSTART:20220313T070000
END:DAYLIGHT
BEGIN:STANDARD
TZOFFSETFROM:-0400
TZOFFSETTO:-0500
TZNAME:EST
DTSTART:20221106T060000
END:STANDARD
BEGIN:DAYLIGHT
TZOFFSETFROM:-0500
TZOFFSETTO:-0400
TZNAME:EDT
DTSTART:20230312T070000
END:DAYLIGHT
BEGIN:STANDARD
TZOFFSETFROM:-0400
TZOFFSETTO:-0500
TZNAME:EST
DTSTART:20231105T060000
END:STANDARD
BEGIN:DAYLIGHT
TZOFFSETFROM:-0500
TZOFFSETTO:-0400
TZNAME:EDT
DTSTART:20240310T070000
END:DAYLIGHT
BEGIN:STANDARD
TZOFFSETFROM:-0400
TZOFFSETTO:-0500
TZNAME:EST
DTSTART:20241103T060000
END:STANDARD
END:VTIMEZONE
BEGIN:VEVENT
DTSTART;TZID=America/New_York:20231104T090000
DTEND;TZID=America/New_York:20231104T100000
DTSTAMP:20260421T135934
CREATED:20221215T235847Z
LAST-MODIFIED:20231104T133256Z
UID:4700-1699088400-1699092000@unitedbaptist.org
SUMMARY:KOINONIA BREAKFAST
DESCRIPTION:
URL:https://unitedbaptist.org/event/koinonia-breakfast-11/
CATEGORIES:D.I.G.(Bible Studies)
END:VEVENT
BEGIN:VEVENT
DTSTART;TZID=America/New_York:20231104T100000
DTEND;TZID=America/New_York:20231104T110000
DTSTAMP:20260421T135934
CREATED:20221215T235847Z
LAST-MODIFIED:20231104T143206Z
UID:4701-1699092000-1699095600@unitedbaptist.org
SUMMARY:United Dig (Bible Study)
DESCRIPTION:
URL:https://unitedbaptist.org/event/united-dig-bible-study-47/
CATEGORIES:D.I.G.(Bible Studies)
END:VEVENT
BEGIN:VEVENT
DTSTART;TZID=America/New_York:20231104T113000
DTEND;TZID=America/New_York:20231104T121500
DTSTAMP:20260421T135934
CREATED:20221215T235847Z
LAST-MODIFIED:20231104T160213Z
UID:4702-1699097400-1699100100@unitedbaptist.org
SUMMARY:Manna Ministry
DESCRIPTION:Manna ministry http://unitedbaptist.org/manna\nJoin with Google Hangouts: https://hangouts.google.com/hangouts/_/calendar/b2ZmaWNlQHVuaXRlZGJhcHRpc3Qub3Jn.73crrnlkocbalg7mv6iqc52lu3?hs=121
URL:https://unitedbaptist.org/event/manna-ministry-47/
CATEGORIES:D.I.G.(Bible Studies)
END:VEVENT
BEGIN:VEVENT
DTSTART;TZID=America/New_York:20231104T113000
DTEND;TZID=America/New_York:20231104T130000
DTSTAMP:20260421T135934
CREATED:20230224T004337Z
LAST-MODIFIED:20231104T163254Z
UID:8583-1699097400-1699102800@unitedbaptist.org
SUMMARY:Church Accountability Meeting
DESCRIPTION:
URL:https://unitedbaptist.org/event/church-accountability-meeting-3/
CATEGORIES:D.I.G.(Bible Studies)
END:VEVENT
END:VCALENDAR