BEGIN:VCALENDAR
VERSION:2.0
PRODID:-//UNITED Baptist Church - ECPv6.15.20//NONSGML v1.0//EN
CALSCALE:GREGORIAN
METHOD:PUBLISH
X-WR-CALNAME:UNITED Baptist Church
X-ORIGINAL-URL:https://unitedbaptist.org
X-WR-CALDESC:Events for UNITED Baptist Church
REFRESH-INTERVAL;VALUE=DURATION:PT1H
X-Robots-Tag:noindex
X-PUBLISHED-TTL:PT1H
BEGIN:VTIMEZONE
TZID:America/New_York
BEGIN:DAYLIGHT
TZOFFSETFROM:-0500
TZOFFSETTO:-0400
TZNAME:EDT
DTSTART:20220313T070000
END:DAYLIGHT
BEGIN:STANDARD
TZOFFSETFROM:-0400
TZOFFSETTO:-0500
TZNAME:EST
DTSTART:20221106T060000
END:STANDARD
BEGIN:DAYLIGHT
TZOFFSETFROM:-0500
TZOFFSETTO:-0400
TZNAME:EDT
DTSTART:20230312T070000
END:DAYLIGHT
BEGIN:STANDARD
TZOFFSETFROM:-0400
TZOFFSETTO:-0500
TZNAME:EST
DTSTART:20231105T060000
END:STANDARD
BEGIN:DAYLIGHT
TZOFFSETFROM:-0500
TZOFFSETTO:-0400
TZNAME:EDT
DTSTART:20240310T070000
END:DAYLIGHT
BEGIN:STANDARD
TZOFFSETFROM:-0400
TZOFFSETTO:-0500
TZNAME:EST
DTSTART:20241103T060000
END:STANDARD
END:VTIMEZONE
BEGIN:VEVENT
DTSTART;TZID=America/New_York:20231027T110000
DTEND;TZID=America/New_York:20231027T120000
DTSTAMP:20260420T215759
CREATED:20221129T003939Z
LAST-MODIFIED:20231018T010209Z
UID:3142-1698404400-1698408000@unitedbaptist.org
SUMMARY:Hermeneutics in the Pastoral Epistles
DESCRIPTION:
URL:https://unitedbaptist.org/event/hermeneutics-in-the-pastoral-epistles-46/
CATEGORIES:D.I.G.(Bible Studies)
END:VEVENT
BEGIN:VEVENT
DTSTART;TZID=America/New_York:20231027T110000
DTEND;TZID=America/New_York:20231027T120000
DTSTAMP:20260420T215759
CREATED:20231018T013209Z
LAST-MODIFIED:20231027T154904Z
UID:19378-1698404400-1698408000@unitedbaptist.org
SUMMARY:Friday DIG in Daniel
DESCRIPTION:
URL:https://unitedbaptist.org/event/friday-dig-in-daniel-2/
CATEGORIES:D.I.G.(Bible Studies)
END:VEVENT
BEGIN:VEVENT
DTSTART;TZID=America/New_York:20231027T120000
DTEND;TZID=America/New_York:20231027T130000
DTSTAMP:20260420T215759
CREATED:20221215T232817Z
LAST-MODIFIED:20221215T235846Z
UID:4484-1698408000-1698411600@unitedbaptist.org
SUMMARY:Prayer Time at Noon
DESCRIPTION:
URL:https://unitedbaptist.org/event/prayer-time-at-noon-49/
END:VEVENT
BEGIN:VEVENT
DTSTART;TZID=America/New_York:20231027T190000
DTEND;TZID=America/New_York:20231027T200000
DTSTAMP:20260420T215759
CREATED:20231010T150230Z
LAST-MODIFIED:20231027T233406Z
UID:19035-1698433200-1698436800@unitedbaptist.org
SUMMARY:Urban Encounter - Pastor Pope
DESCRIPTION:
URL:https://unitedbaptist.org/event/urban-encounuter-pastor-pope/
CATEGORIES:D.I.G.(Bible Studies)
END:VEVENT
END:VCALENDAR