BEGIN:VCALENDAR
VERSION:2.0
PRODID:-//UNITED Baptist Church - ECPv6.15.20//NONSGML v1.0//EN
CALSCALE:GREGORIAN
METHOD:PUBLISH
X-ORIGINAL-URL:https://unitedbaptist.org
X-WR-CALDESC:Events for UNITED Baptist Church
REFRESH-INTERVAL;VALUE=DURATION:PT1H
X-Robots-Tag:noindex
X-PUBLISHED-TTL:PT1H
BEGIN:VTIMEZONE
TZID:America/New_York
BEGIN:DAYLIGHT
TZOFFSETFROM:-0500
TZOFFSETTO:-0400
TZNAME:EDT
DTSTART:20220313T070000
END:DAYLIGHT
BEGIN:STANDARD
TZOFFSETFROM:-0400
TZOFFSETTO:-0500
TZNAME:EST
DTSTART:20221106T060000
END:STANDARD
BEGIN:DAYLIGHT
TZOFFSETFROM:-0500
TZOFFSETTO:-0400
TZNAME:EDT
DTSTART:20230312T070000
END:DAYLIGHT
BEGIN:STANDARD
TZOFFSETFROM:-0400
TZOFFSETTO:-0500
TZNAME:EST
DTSTART:20231105T060000
END:STANDARD
BEGIN:DAYLIGHT
TZOFFSETFROM:-0500
TZOFFSETTO:-0400
TZNAME:EDT
DTSTART:20240310T070000
END:DAYLIGHT
BEGIN:STANDARD
TZOFFSETFROM:-0400
TZOFFSETTO:-0500
TZNAME:EST
DTSTART:20241103T060000
END:STANDARD
END:VTIMEZONE
BEGIN:VEVENT
DTSTART;TZID=America/New_York:20231020T110000
DTEND;TZID=America/New_York:20231020T120000
DTSTAMP:20260420T114604
CREATED:20221129T003939Z
LAST-MODIFIED:20231018T010208Z
UID:3140-1697799600-1697803200@unitedbaptist.org
SUMMARY:Hermeneutics in the Pastoral Epistles
DESCRIPTION:
URL:https://unitedbaptist.org/event/hermeneutics-in-the-pastoral-epistles-45/
CATEGORIES:D.I.G.(Bible Studies)
END:VEVENT
BEGIN:VEVENT
DTSTART;TZID=America/New_York:20231020T110000
DTEND;TZID=America/New_York:20231020T120000
DTSTAMP:20260420T114604
CREATED:20231018T013208Z
LAST-MODIFIED:20231020T151751Z
UID:19377-1697799600-1697803200@unitedbaptist.org
SUMMARY:Friday DIG in Daniel
DESCRIPTION:
URL:https://unitedbaptist.org/event/friday-dig-in-daniel/
CATEGORIES:D.I.G.(Bible Studies)
END:VEVENT
BEGIN:VEVENT
DTSTART;TZID=America/New_York:20231020T120000
DTEND;TZID=America/New_York:20231020T130000
DTSTAMP:20260420T114604
CREATED:20221215T232817Z
LAST-MODIFIED:20221215T235845Z
UID:4483-1697803200-1697806800@unitedbaptist.org
SUMMARY:Prayer Time at Noon
DESCRIPTION:
URL:https://unitedbaptist.org/event/prayer-time-at-noon-48/
END:VEVENT
BEGIN:VEVENT
DTSTART;TZID=America/New_York:20231020T190000
DTEND;TZID=America/New_York:20231020T213000
DTSTAMP:20260420T114604
CREATED:20230210T212824Z
LAST-MODIFIED:20231021T011708Z
UID:7911-1697828400-1697837400@unitedbaptist.org
SUMMARY:Movie:
DESCRIPTION:
URL:https://unitedbaptist.org/event/movie-3/
LOCATION:United Baptist Church\, New Carrollton\, MD 20784\, USA
CATEGORIES:D.I.G.(Bible Studies)
END:VEVENT
BEGIN:VEVENT
DTSTART;TZID=America/New_York:20231020T190000
DTEND;TZID=America/New_York:20231020T213000
DTSTAMP:20260420T114604
CREATED:20230210T215840Z
LAST-MODIFIED:20230810T150400Z
UID:7961-1697828400-1697837400@unitedbaptist.org
SUMMARY:Movie: Overcomer
DESCRIPTION:
URL:https://unitedbaptist.org/event/movie-overcomer-9/
LOCATION:United Baptist Church\, New Carrollton\, MD 20784\, USA
CATEGORIES:D.I.G.(Bible Studies)
END:VEVENT
END:VCALENDAR